BEGIN:VCALENDAR
VERSION:2.0
PRODID:-//Global Conservation Force - ECPv6.15.20//NONSGML v1.0//EN
CALSCALE:GREGORIAN
METHOD:PUBLISH
X-WR-CALNAME:Global Conservation Force
X-ORIGINAL-URL:https://globalconservationforce.org
X-WR-CALDESC:Events for Global Conservation Force
REFRESH-INTERVAL;VALUE=DURATION:PT1H
X-Robots-Tag:noindex
X-PUBLISHED-TTL:PT1H
BEGIN:VTIMEZONE
TZID:UTC
BEGIN:STANDARD
TZOFFSETFROM:+0000
TZOFFSETTO:+0000
TZNAME:UTC
DTSTART:20250101T000000
END:STANDARD
END:VTIMEZONE
BEGIN:VEVENT
DTSTART;TZID=UTC:20260324T080000
DTEND;TZID=UTC:20260324T160000
DTSTAMP:20260419T191533
CREATED:20251106T163153Z
LAST-MODIFIED:20251219T222908Z
UID:8667-1774339200-1774368000@globalconservationforce.org
SUMMARY:K9 First Aid Training For Ranger Handlers | South Africa
DESCRIPTION:March 24th\, 2026 \nGlobal Conservation Force is proud to once again partner with Ikhala Veterinary Clinic to deliver a full day of hands-on K9 First Aid training to anti-poaching K9 handlers from across the Eastern Cape\, South Africa. \nBuilding on the success of previous courses\, this training continues to empower the dedicated men and women who work daily to protect South Africa’s wildlife. These handlers\, representing reserves such as Lalibela\, Kariega\, Amakhala\, Bucklands\, Addo National Park\, Tanglewood\, Kwandwe\, and Great Fish River\, work alongside highly trained dogs who track poachers\, patrol rugged terrain\, and face immense challenges in the field. \nReal-World Skills for Real-World Scenarios\nThis full-day training is designed to prepare handlers for the medical emergencies they may encounter during active duty. Under the expert instruction of the veterinary team at Ikhala\, participants will learn to recognize and respond to: \n\n\nHeat stroke and dehydration \n\n\nSnake bites \n\n\nPuncture wounds and lacerations \n\n\nFractures and sprains \n\n\nPoisoning symptoms \n\n\nEmergency wound care and trauma response \n\n\nThis is not a classroom lecture—it’s an active\, scenario-based training where handlers practice real-world skills that can mean the difference between life and death for their K9 partners. \nEquipping Handlers for Success\nEach participant and reserve team will receive: \n\n\nA Certificate of Completion recognizing their newly gained field medical skills \n\n\nA fully equipped K9-specific medical response kit\, customized with trauma supplies\, dressings\, wraps\, and medications to support canine health in remote or high-risk environments \n\n\nThese kits become part of their daily patrol gear—ready to deliver life-saving care in the moments that matter most. \n\n“Our K9s are more than working animals\, they’re teammates\, protectors\, and family. Ensuring their health and safety directly strengthens the impact of the anti-poaching teams they serve with.”— Mike Veale\, Founder & CEO \, Global Conservation Force \n\nGet Involved — Train Alongside the Frontline\nFor those passionate about wildlife protection and hands-on conservation\, you can take part in this and other specialized anti-poaching training experiences by joining GCF’s Wildlife Warrior Safari. \nThis immersive program embeds participants alongside real-world conservation professionals\, giving you the opportunity to observe\, learn\, and even participate in key training sessions\, like this K9 First Aid course\, as much or as little as you choose. \nLearn more about the Wildlife Warrior Safari and how you can be part of these frontline efforts. \nHelp Keep the K9s Mission-Ready\nEvery course\, every kit\, and every trained handler helps strengthen the protection of endangered wildlife. \nYou can make a direct impact by sponsoring a K9 First Aid kit or contributing to future training sessions. \n🔗 Donate or Sponsor a K9 Medical Kit Today: https://givebutter.com/ConservationK9s
URL:https://globalconservationforce.org/event/k9-first-aid-training-for-ranger-handlers/
CATEGORIES:Ecotour,Professional Development Course
ATTACH;FMTTYPE=image/jpeg:https://globalconservationforce.org/wp-content/uploads/2025/06/DSC00021.jpg
END:VEVENT
END:VCALENDAR