BEGIN:VCALENDAR
VERSION:2.0
PRODID:-//Global Conservation Force - ECPv6.15.20//NONSGML v1.0//EN
CALSCALE:GREGORIAN
METHOD:PUBLISH
X-WR-CALNAME:Global Conservation Force
X-ORIGINAL-URL:https://globalconservationforce.org
X-WR-CALDESC:Events for Global Conservation Force
REFRESH-INTERVAL;VALUE=DURATION:PT1H
X-Robots-Tag:noindex
X-PUBLISHED-TTL:PT1H
BEGIN:VTIMEZONE
TZID:UTC
BEGIN:STANDARD
TZOFFSETFROM:+0000
TZOFFSETTO:+0000
TZNAME:UTC
DTSTART:20230101T000000
END:STANDARD
END:VTIMEZONE
BEGIN:VEVENT
DTSTART;TZID=UTC:20241005T080000
DTEND;TZID=UTC:20241011T170000
DTSTAMP:20260420T061940
CREATED:20240723T005343Z
LAST-MODIFIED:20240723T010031Z
UID:6285-1728115200-1728666000@globalconservationforce.org
SUMMARY:October Ecotour Safari
DESCRIPTION:Explore the breathtaking beauty of the African wilderness while visiting key conservation partners and programs. Witness the bravery of anti-poaching units in action\, experience a thrilling K9 conservation demonstration\, and indulge in a rejuvenating spa day. Capture stunning wildlife photos on guided game drives\, savor exquisite fine dining\, and embark on guided bush walks to immerse yourself in the heart of nature. This unique journey offers an extraordinary blend of adventure\, relaxation\, and impactful conservation efforts. \nDon’t miss the chance to make a difference while experiencing the safari of a lifetime! \n  \nWhen: October 5th to October 11th\, 2024 \nWhere: Hoedspruit / Greater Kruger Park\, South Africa \nWhat’s Included: Pickup/drop off from the Hoedspruit airport\, lodge accommodation\, all food and non-alcoholic beverages during the trip\, spa day\, guided game drives and photo safari’s\, bush walk\, fine dining experience\, community and cultural activity\, all transportation to and from activities on GCF program / itinerary\, anti poaching ranger meet n greet\, conservation K9 demonstration. \nWhat is not included: tips\, international and local flights\, any accommodation before or after the GCF itinerary\, any programs or activities outside of the GCF confirmed itinerary\, medical or travel insurance\, alcoholic beverages\, curios or souvenir purchases. \nPrice Per Person : $5\,500  \nCLICK HERE TO JOIN
URL:https://globalconservationforce.org/event/october-ecotour-safari/
LOCATION:Hoedspruit\, South Africa\, Hoedspruit\, South Africa
CATEGORIES:Ecotour
ATTACH;FMTTYPE=image/jpeg:https://globalconservationforce.org/wp-content/uploads/2024/07/67a235be-4665-c0ca-0686-e21fdd06f958.jpeg
ORGANIZER;CN="Global Conservation Force":MAILTO:N.Frolander@globalconservationforce.org
END:VEVENT
END:VCALENDAR