BEGIN:VCALENDAR
VERSION:2.0
PRODID:-//Global Conservation Force - ECPv6.15.20//NONSGML v1.0//EN
CALSCALE:GREGORIAN
METHOD:PUBLISH
X-ORIGINAL-URL:https://globalconservationforce.org
X-WR-CALDESC:Events for Global Conservation Force
REFRESH-INTERVAL;VALUE=DURATION:PT1H
X-Robots-Tag:noindex
X-PUBLISHED-TTL:PT1H
BEGIN:VTIMEZONE
TZID:UTC
BEGIN:STANDARD
TZOFFSETFROM:+0000
TZOFFSETTO:+0000
TZNAME:UTC
DTSTART:20240101T000000
END:STANDARD
END:VTIMEZONE
BEGIN:VEVENT
DTSTART;TZID=UTC:20250405T060000
DTEND;TZID=UTC:20250405T120000
DTSTAMP:20260419T173445
CREATED:20250306T202132Z
LAST-MODIFIED:20250306T202132Z
UID:7686-1743832800-1743854400@globalconservationforce.org
SUMMARY:Garage Sale – Fundraiser & Clearance Event!
DESCRIPTION:Shop\, Save & Support Conservation! \nJoin us for the GCF Garage Sale on April 5th in Temecula\, CA\, where we’re offloading gently used and new items at clearance prices—all to fund wildlife conservation efforts! Score amazing deals on a variety of items\, including GCF apparel at a killer price! \nDate: April 5\, 2025 \nLocation: 30161 Mira Loma Dr\, Temecula\, CA \nTime: 6:00 AM – 12:00 PM \nDonate & Make a Difference! \nHave quality items you no longer need? Donate them to our garage sale and help us turn them into vital funding for conservation programs\, ranger support\, and wildlife protection initiatives. \nCome shop\, donate\, and be part of the mission to protect endangered species! \n📩 For donation drop-off details or questions\, contact us at info@globalconservationforce.org .
URL:https://globalconservationforce.org/event/garage-sale-fundraiser-clearance-event/
LOCATION:30161 mira loma dr\, Temecula\, Ca 92592\, 30161 Mira Loma Dr\, Temecula\, CA\, United States
CATEGORIES:Fundraiser
ATTACH;FMTTYPE=image/jpeg:https://globalconservationforce.org/wp-content/uploads/2025/03/Birthday-Party-Facebook-Event-Header-Banner-Social-Media-Plants.jpg
ORGANIZER;CN="Global Conservation Force":MAILTO:N.Frolander@globalconservationforce.org
END:VEVENT
END:VCALENDAR