BEGIN:VCALENDAR
VERSION:2.0
PRODID:-//Global Conservation Force - ECPv6.15.20//NONSGML v1.0//EN
CALSCALE:GREGORIAN
METHOD:PUBLISH
X-ORIGINAL-URL:https://globalconservationforce.org
X-WR-CALDESC:Events for Global Conservation Force
REFRESH-INTERVAL;VALUE=DURATION:PT1H
X-Robots-Tag:noindex
X-PUBLISHED-TTL:PT1H
BEGIN:VTIMEZONE
TZID:UTC
BEGIN:STANDARD
TZOFFSETFROM:+0000
TZOFFSETTO:+0000
TZNAME:UTC
DTSTART:20240101T000000
END:STANDARD
END:VTIMEZONE
BEGIN:VEVENT
DTSTART;TZID=UTC:20250501T150000
DTEND;TZID=UTC:20250501T183000
DTSTAMP:20260419T155708
CREATED:20250428T213103Z
LAST-MODIFIED:20250428T213103Z
UID:7912-1746111600-1746124200@globalconservationforce.org
SUMMARY:Brews for Baby Rhinos
DESCRIPTION:Join GCF Founder & CEO Mike Veale and Karen Odendaal of Zululand Conservation Trust and Zululand Rhino Orphanage for an inspiring afternoon! Hear about our latest projects while enjoying delicious brews — Pretzels & Pints is generously donating 10% of sales during the event to support our mission! Casual\, fun\, and full of conservation spirit.
URL:https://globalconservationforce.org/event/brews-for-baby-rhinos/
LOCATION:Pretzels and Pints\, 3812 Ray St.\, San Diego\, CA\, 92104\, United States
CATEGORIES:Fundraiser
ATTACH;FMTTYPE=image/jpeg:https://globalconservationforce.org/wp-content/uploads/2025/02/e9b083b4-a060-4976-9d2c-00bd6b311613.jpg
ORGANIZER;CN="Global Conservation Force":MAILTO:N.Frolander@globalconservationforce.org
END:VEVENT
BEGIN:VEVENT
DTSTART;TZID=UTC:20250502T170000
DTEND;TZID=UTC:20250502T180000
DTSTAMP:20260419T155708
CREATED:20250428T213342Z
LAST-MODIFIED:20250428T213342Z
UID:7915-1746205200-1746208800@globalconservationforce.org
SUMMARY:Saving Baby Rhinos VIRTUAL EVENT
DESCRIPTION:Virtual Field Updates with special celebrity guest Anthony Porter!Tune in live on Facebook and Instagram to catch the latest conservation news from GCF\, Zululand Conservation Trust\, and Zululand Rhino Orphanage. Plus\, we’ll be announcing some special invite-only opportunities you won’t want to miss!
URL:https://globalconservationforce.org/event/saving-baby-rhinos-virtual-event/
LOCATION:VIRTUAL
CATEGORIES:Donations,Fundraiser,Professional Development Course
ATTACH;FMTTYPE=image/jpeg:https://globalconservationforce.org/wp-content/uploads/2025/02/3d8e57a9-45e5-4c53-b6f0-53c3c8d1a2e1.jpg
ORGANIZER;CN="Global Conservation Force":MAILTO:N.Frolander@globalconservationforce.org
END:VEVENT
END:VCALENDAR