BEGIN:VCALENDAR
VERSION:2.0
PRODID:-//Global Conservation Force - ECPv6.15.20//NONSGML v1.0//EN
CALSCALE:GREGORIAN
METHOD:PUBLISH
X-WR-CALNAME:Global Conservation Force
X-ORIGINAL-URL:https://globalconservationforce.org
X-WR-CALDESC:Events for Global Conservation Force
REFRESH-INTERVAL;VALUE=DURATION:PT1H
X-Robots-Tag:noindex
X-PUBLISHED-TTL:PT1H
BEGIN:VTIMEZONE
TZID:UTC
BEGIN:STANDARD
TZOFFSETFROM:+0000
TZOFFSETTO:+0000
TZNAME:UTC
DTSTART:20240101T000000
END:STANDARD
END:VTIMEZONE
BEGIN:VEVENT
DTSTART;TZID=UTC:20250424T180000
DTEND;TZID=UTC:20250424T213000
DTSTAMP:20260419T194906
CREATED:20250210T203042Z
LAST-MODIFIED:20250301T200153Z
UID:7572-1745517600-1745530200@globalconservationforce.org
SUMMARY:Saving Baby Rhinos – A Fundraiser for Emergency Conservation Efforts
DESCRIPTION:Date: April 24th\, 2025 \nTime: 6:00 PM – 9:00 PM \nLocation: Wilson Creek Winery\, Temecula\, CA \nJoin Global Conservation Force (GCF)\, Zululand Conservation Trust\, and Zululand Rhino Orphanage for an impactful evening dedicated to protecting and caring for orphaned baby rhinos. The surge in rhino poaching across KwaZulu-Natal (KZN) has left an alarming number of calves orphaned\, requiring immediate emergency funding for their protection\, medical care\, feeding\, and long-term rehabilitation. Additionally\, funding is needed for rescue operations and the safe release of rehabilitated rhinos back into the wild. \nGCF has been a long-standing partner of Zululand Conservation Trust and Zululand Rhino Orphanage\, working collaboratively on critical conservation initiatives—from ranger training and gear sponsorship to medical equipment donations and funding for the orphanage. Additionally\, GCF has provided two fully trained K9s for rhino and pangolin protection efforts. \nEvent Highlights:\nPresentations from Conservation Leaders: \n\nKaren Odendaal\, Executive Director of Zululand Conservation Trust\nMike Veale\, CEO of Global Conservation Force\nDavid Lee\, Conservation Filmmaker\n\nExclusive Screening of “The Last Ranger”: Be among the first to watch this powerful documentary\, highlighting the challenges and triumphs of those on the frontlines of conservation. \nWine & Conservation: Enjoy the beautiful setting of Wilson Creek Winery while supporting a vital cause. \nSilent Auction: Bid on incredible experiences\, including an exclusive-access safari that offers a behind-the-scenes look at conservation in action. \nEvery ticket and donation from this event will go directly toward emergency funds for rhino rescue\, orphan care\, rehabilitation\, and release efforts. Help us make a difference in the fight to save these incredible animals! \nGET Your Tickets HERE : https://square.link/u/9azlmjsp \nCant make it to the event but would like to support? Click Here To Donate
URL:https://globalconservationforce.org/event/saving-baby-rhinos-a-fundraiser-for-emergency-conservation-efforts/
CATEGORIES:Fundraiser
ATTACH;FMTTYPE=image/jpeg:https://globalconservationforce.org/wp-content/uploads/2024/04/DSC06167.jpg
END:VEVENT
END:VCALENDAR